BEGIN:VCALENDAR
VERSION:2.0
PRODID:-//hacksw/handcal//NONSGML v1.0//EN
BEGIN:VEVENT
SUMMARY:Challenge Omnisports
UID:0938a845-15df-4de4-8283-74d3b5e31ca5
DTSTART:20260320T090000Z
DTEND:20260320T153000Z
LOCATION:Localisation Stade de ma ville 72000 LE MANS
CATEGORIES:Sportif
STATUS:
DESCRIPTION:<p>Le challenge Omnisports organise par le club debutera
 sur le grand stade de la ville.<br>Les prix seront remis en
 soiree.</p>
URL;VALUE=URI:https://amitienaturefontaine.sportsregions.fr/evenements/2026/03/20/challenge-omnisports-2430827
END:VEVENT
END:VCALENDAR
